BEGIN:VCALENDAR
VERSION:2.0
PRODID:-//Forest Lodge Public Library - ECPv6.15.20//NONSGML v1.0//EN
CALSCALE:GREGORIAN
METHOD:PUBLISH
X-WR-CALNAME:Forest Lodge Public Library
X-ORIGINAL-URL:https://dev2.librarieswin.org
X-WR-CALDESC:Events for Forest Lodge Public Library
REFRESH-INTERVAL;VALUE=DURATION:PT1H
X-Robots-Tag:noindex
X-PUBLISHED-TTL:PT1H
BEGIN:VTIMEZONE
TZID:America/Chicago
BEGIN:DAYLIGHT
TZOFFSETFROM:-0600
TZOFFSETTO:-0500
TZNAME:CDT
DTSTART:20250309T080000
END:DAYLIGHT
BEGIN:STANDARD
TZOFFSETFROM:-0500
TZOFFSETTO:-0600
TZNAME:CST
DTSTART:20251102T070000
END:STANDARD
BEGIN:DAYLIGHT
TZOFFSETFROM:-0600
TZOFFSETTO:-0500
TZNAME:CDT
DTSTART:20260308T080000
END:DAYLIGHT
BEGIN:STANDARD
TZOFFSETFROM:-0500
TZOFFSETTO:-0600
TZNAME:CST
DTSTART:20261101T070000
END:STANDARD
BEGIN:DAYLIGHT
TZOFFSETFROM:-0600
TZOFFSETTO:-0500
TZNAME:CDT
DTSTART:20270314T080000
END:DAYLIGHT
BEGIN:STANDARD
TZOFFSETFROM:-0500
TZOFFSETTO:-0600
TZNAME:CST
DTSTART:20271107T070000
END:STANDARD
END:VTIMEZONE
BEGIN:VEVENT
DTSTART;VALUE=DATE:20260419
DTEND;VALUE=DATE:20260426
DTSTAMP:20260421T143947
CREATED:20260420T172751Z
LAST-MODIFIED:20260420T172751Z
UID:10000277-1776556800-1777161599@dev2.librarieswin.org
SUMMARY:National Library Week 2026
DESCRIPTION:FIND YOUR JOY!\nCelebrate NATIONAL LIBRARY WEEK April 19–25\, 2026\nALA American Library Association\nLibrary Champions\nArt ©2026 by Lorraine Nam from I’m So Happy You’re Here
URL:https://dev2.librarieswin.org/event/national-library-week-2026/
LOCATION:Forest Lodge Library\, 13450 County Highway M\, Cable\, WI\, 54821\, United States
CATEGORIES:Library Events
ATTACH;FMTTYPE=image/jpeg:https://dev2.librarieswin.org/wp-content/uploads/2026/04/national-library-week-2026.jpg
END:VEVENT
BEGIN:VEVENT
DTSTART;VALUE=DATE:20260422
DTEND;VALUE=DATE:20260423
DTSTAMP:20260421T143947
CREATED:20260420T173044Z
LAST-MODIFIED:20260420T173044Z
UID:10000280-1776816000-1776902399@dev2.librarieswin.org
SUMMARY:National Library Outreach Day
DESCRIPTION:Wednesday\, April 22: National Library Outreach Day (formerly National Bookmobile Day)\, a day to celebrate library outreach and the dedicated library professionals who are meeting their patrons where they are.
URL:https://dev2.librarieswin.org/event/national-library-outreach-day/
LOCATION:Forest Lodge Library\, 13450 County Highway M\, Cable\, WI\, 54821\, United States
CATEGORIES:Library Events
ATTACH;FMTTYPE=image/jpeg:https://dev2.librarieswin.org/wp-content/uploads/2026/04/national-library-week-2026.jpg
END:VEVENT
BEGIN:VEVENT
DTSTART;TZID=America/Chicago:20260422T100000
DTEND;TZID=America/Chicago:20260422T150000
DTSTAMP:20260421T143947
CREATED:20260420T173222Z
LAST-MODIFIED:20260420T173222Z
UID:10000281-1776852000-1776870000@dev2.librarieswin.org
SUMMARY:Tech Support with Eric Faber
DESCRIPTION:
URL:https://dev2.librarieswin.org/event/tech-support-with-eric-faber/
LOCATION:Forest Lodge Library\, 13450 County Highway M\, Cable\, WI\, 54821\, United States
CATEGORIES:Library Events
ATTACH;FMTTYPE=image/png:https://dev2.librarieswin.org/wp-content/uploads/2026/04/click-and-learn-300x148-1.png
END:VEVENT
BEGIN:VEVENT
DTSTART;TZID=America/Chicago:20260422T170000
DTEND;TZID=America/Chicago:20260422T180000
DTSTAMP:20260421T143947
CREATED:20260420T173347Z
LAST-MODIFIED:20260420T173347Z
UID:10000282-1776877200-1776880800@dev2.librarieswin.org
SUMMARY:Katie Flowers Endowment Board of Directors
DESCRIPTION:
URL:https://dev2.librarieswin.org/event/katie-flowers-endowment-board-of-directors/
LOCATION:Forest Lodge Library\, 13450 County Highway M\, Cable\, WI\, 54821\, United States
CATEGORIES:Library Events
ATTACH;FMTTYPE=image/jpeg:https://dev2.librarieswin.org/wp-content/uploads/2026/04/katie-flowers-endowment.jpg
END:VEVENT
BEGIN:VEVENT
DTSTART;VALUE=DATE:20260423
DTEND;VALUE=DATE:20260424
DTSTAMP:20260421T143947
CREATED:20260420T173456Z
LAST-MODIFIED:20260420T173456Z
UID:10000283-1776902400-1776988799@dev2.librarieswin.org
SUMMARY:Take Action for Libraries Day
DESCRIPTION:Thursday\, April 23: Take Action for Libraries Day\, a day to rally advocates to support libraries.
URL:https://dev2.librarieswin.org/event/take-action-for-libraries-day/
LOCATION:Forest Lodge Library\, 13450 County Highway M\, Cable\, WI\, 54821\, United States
CATEGORIES:Library Events
ATTACH;FMTTYPE=image/jpeg:https://dev2.librarieswin.org/wp-content/uploads/2026/04/national-library-week-2026.jpg
END:VEVENT
BEGIN:VEVENT
DTSTART;TZID=America/Chicago:20260512T180000
DTEND;TZID=America/Chicago:20260512T190000
DTSTAMP:20260421T143947
CREATED:20260420T173639Z
LAST-MODIFIED:20260420T200711Z
UID:10000284-1778608800-1778612400@dev2.librarieswin.org
SUMMARY:Cookbook Club
DESCRIPTION:May’s Cookbook Club focus is Mexican! \nThe cookbook chosen for this month is: In Edith’s Kitchen: Recipes from My Mostly Mexican-American Home to Yours by Edith Galvez. \nIf you are interested in join this month’s Cookbook Club (open to all)\, please let Director Westlund know!  Email at: awestlund@cable.wislib.org. \nHow Cookbook Club works: \n\nCome to the library and check out the featured cookbook.\nTake it home to explore and pick one recipe (you can make a copy of the recipe at the library or take a photo – this does not infringe on copyright laws) that you would be willing and able to make to bring to the Cookbook Club meeting to share.  You do not need to double the recipe – the original amount will be fine as we will be sharing multiple dishes and just take a sample of each at the meeting.\nLet Director Westlund know your choice so she can list that it has been taken (so we can avoid doubles) on the website.\nPrepare your dish and bring it\, you\, and a guest with to the Cookbook Club meeting!  When everyone has arrived we’ll eat\, chat\, discuss the cookbook\, clean up and go!\n\nCookbook Club usually only lasts for about an hour.
URL:https://dev2.librarieswin.org/event/cookbook-club/
LOCATION:Forest Lodge Library\, 13450 County Highway M\, Cable\, WI\, 54821\, United States
CATEGORIES:Library Events
ATTACH;FMTTYPE=image/jpeg:https://dev2.librarieswin.org/wp-content/uploads/2026/04/in-ediths-kitchen.jpg
END:VEVENT
END:VCALENDAR