BEGIN:VCALENDAR
VERSION:2.0
PRODID:-//Forest Lodge Public Library - ECPv6.15.20//NONSGML v1.0//EN
CALSCALE:GREGORIAN
METHOD:PUBLISH
X-WR-CALNAME:Forest Lodge Public Library
X-ORIGINAL-URL:https://dev2.librarieswin.org
X-WR-CALDESC:Events for Forest Lodge Public Library
REFRESH-INTERVAL;VALUE=DURATION:PT1H
X-Robots-Tag:noindex
X-PUBLISHED-TTL:PT1H
BEGIN:VTIMEZONE
TZID:America/Chicago
BEGIN:DAYLIGHT
TZOFFSETFROM:-0600
TZOFFSETTO:-0500
TZNAME:CDT
DTSTART:20250309T080000
END:DAYLIGHT
BEGIN:STANDARD
TZOFFSETFROM:-0500
TZOFFSETTO:-0600
TZNAME:CST
DTSTART:20251102T070000
END:STANDARD
BEGIN:DAYLIGHT
TZOFFSETFROM:-0600
TZOFFSETTO:-0500
TZNAME:CDT
DTSTART:20260308T080000
END:DAYLIGHT
BEGIN:STANDARD
TZOFFSETFROM:-0500
TZOFFSETTO:-0600
TZNAME:CST
DTSTART:20261101T070000
END:STANDARD
BEGIN:DAYLIGHT
TZOFFSETFROM:-0600
TZOFFSETTO:-0500
TZNAME:CDT
DTSTART:20270314T080000
END:DAYLIGHT
BEGIN:STANDARD
TZOFFSETFROM:-0500
TZOFFSETTO:-0600
TZNAME:CST
DTSTART:20271107T070000
END:STANDARD
END:VTIMEZONE
BEGIN:VEVENT
DTSTART;VALUE=DATE:20260420
DTEND;VALUE=DATE:20260421
DTSTAMP:20260421T161907
CREATED:20260420T172856Z
LAST-MODIFIED:20260420T172856Z
UID:10000278-1776643200-1776729599@dev2.librarieswin.org
SUMMARY:Right to Read Day
DESCRIPTION:Monday\, April 20: Right to Read Day\, a day for readers\, advocates\, and library lovers to take action to protect\, defend\, and celebrate the right to read. The American Library Association (ALA) kicks off National Library Week with the release of its State of America’s Libraries Report\, including the list of Top Ten Most Challenged Books of 2025.
URL:https://dev2.librarieswin.org/event/right-to-read-day/
LOCATION:Forest Lodge Library\, 13450 County Highway M\, Cable\, WI\, 54821\, United States
CATEGORIES:Library Events
ATTACH;FMTTYPE=image/jpeg:https://dev2.librarieswin.org/wp-content/uploads/2026/04/national-library-week-2026.jpg
END:VEVENT
END:VCALENDAR